BEGIN:VCALENDAR
VERSION:2.0
PRODID:-//Governance Advocacy Forum - ECPv6.15.11//NONSGML v1.0//EN
CALSCALE:GREGORIAN
METHOD:PUBLISH
X-ORIGINAL-URL:https://gafbd.org
X-WR-CALDESC:Events for Governance Advocacy Forum
REFRESH-INTERVAL;VALUE=DURATION:PT1H
X-Robots-Tag:noindex
X-PUBLISHED-TTL:PT1H
BEGIN:VTIMEZONE
TZID:Asia/Dhaka
BEGIN:STANDARD
TZOFFSETFROM:+0600
TZOFFSETTO:+0600
TZNAME:+06
DTSTART:20200101T000000
END:STANDARD
END:VTIMEZONE
BEGIN:VEVENT
DTSTART;TZID=Asia/Dhaka:20211219T100000
DTEND;TZID=Asia/Dhaka:20211219T110000
DTSTAMP:20260425T202930
CREATED:20211207T164340Z
LAST-MODIFIED:20211213T115447Z
UID:25127-1639908000-1639911600@gafbd.org
SUMMARY:Dialogue Session-2: Resource Mobilization of Local Government Institutions
DESCRIPTION:Presentation of keynote: Dr. Mahfuz Kabir\, Research Director\, BIISS\nHonorable Speaker: MS. Shaila Farzana\, Joint Secretary\, Ministry of Public Administration\nModerator: Mr. Amanur Rahman\, Director\, CARE Bangladesh
URL:https://gafbd.org/event/dialogue-session-2-local-resource-mobilization-of-lgis/
LOCATION:Krishibid Institution Bangladesh\, Khamarbari\, Farmgate\, Dhaka\, 1207\, Bangladesh
CATEGORIES:Dialogue Session-2
ATTACH;FMTTYPE=image/jpeg:https://gafbd.org/wp-content/uploads/2021/12/p2.jpg
ORGANIZER;CN="Governance Advocacy Foram-GAF":MAILTO:info@gafbd.org
END:VEVENT
END:VCALENDAR