BEGIN:VCALENDAR
VERSION:2.0
PRODID:-//Governance Advocacy Forum - ECPv6.15.11//NONSGML v1.0//EN
CALSCALE:GREGORIAN
METHOD:PUBLISH
X-ORIGINAL-URL:https://gafbd.org
X-WR-CALDESC:Events for Governance Advocacy Forum
REFRESH-INTERVAL;VALUE=DURATION:PT1H
X-Robots-Tag:noindex
X-PUBLISHED-TTL:PT1H
BEGIN:VTIMEZONE
TZID:Asia/Dhaka
BEGIN:STANDARD
TZOFFSETFROM:+0600
TZOFFSETTO:+0600
TZNAME:+06
DTSTART:20200101T000000
END:STANDARD
END:VTIMEZONE
BEGIN:VEVENT
DTSTART;TZID=Asia/Dhaka:20211219T090000
DTEND;TZID=Asia/Dhaka:20211219T140000
DTSTAMP:20260425T162642
CREATED:20211202T042640Z
LAST-MODIFIED:20211213T114355Z
UID:25049-1639904400-1639922400@gafbd.org
SUMMARY:Effective Local Government National Convention\, 2021
DESCRIPTION:Program Schedule: \n\n\n\n9.30am to 10.00am\n  \nRegistration\n\n\n10.00am to 11.00am\nParallel Dialogue Session\n\n\nDialogue Session-1\nProgress as a Developing Country and Policy support for Establishing Effective Local Government to implementation the SDGs  \n\n\nPresentation of keynote: Mr. Mozammel Haque\nProgram Analyst\, Democratic Governance Portfolio\, UNDP  \nHonorable Speaker: Mr. Mohammad Asaduzzaman Sarkar\nDeputy Chief\, Revenue and Monetary Policy Division\, Planning Commission \nModerator: Mr Abdul Awal\, Executive Director\, NRDS\n\n\n  \nDialogue Session-2\nResource Mobilization of Local Government Institutions\n\n\nPresentation of keynote: Dr. Mahfuz Kabir\, Research Director\, BIISS \nHonorable Speaker: MS. Shaila Farzana\, Joint Secretary\, Ministry of Public Administration \nModerator: Mr. Amanur Rahman\, Director\, CARE Bangladesh\n\n\n  \nDialogue Session-3\nStatus of Elected Women Representatives in Local Government Institutions \n\n\nPresentation of keynote: MS. Farhana Afroz\, Program Manager\, Christian Aid \nHonorable Speaker: Dr. Ferdous Arefina Osman\nProfessor\, Department of Public Administration\, University of Dhaka \nModerator: Mr. Amit Dey\, Deputy Manager\, ActionAid Bangladesh\n\n\n  \nDialogue Session-4\nPeople’s participation and transparency and accountability of Local Government Institutions\n\n\nPresentation of keynote: Mr. Md. Ziaul Karim\, Senior Coordinator\, Mannuser Jonno Foundation \nHonorable Speaker: Mr. Md. Jasim Uddin\, Joint Secretary\, Law Branch\, Local Government Department \nModerator: Mr. Ataur Rahman Mitton\, Country Director\, Hunger Free World\n\n\n11.00am to 11.30am\nHealth Break\n\n\n11.30am to 2.00pm\nPlenary Session\n\n\nWelcome Speech\nMr. Aniruddha Roy\, Facilitator\, Governance Advocacy Forum\n\n\nConsolidated Presentation from Dialogue Sessions\nMd. Ziaul Karim\, Senior coordinator\, MJF\n\n\nPresentation of Research Findings\nDr. Mobasser Monem\, Professor\, Department of Public Administration\n\n\nRecommendations of the National Convention\nMr. Mohsin Ali\nCoordinator\, Governance Advocacy Forum and Executive Director\, WAVE Foundation\n\n\nDiscussion by the Local Government Representatives and Participants\nMr. Akhtaruzzaman\, Chairman\, Gazipur Zila Parishad \nMr. Harun-Or-Rashid Hawlader\, President\, Bangladesh Upazila Parishad Association \nMr. Dewan Kamal Ahmed\, President\, Municipal Association of Bangladesh-MAB \nMr. Sazzad Hossain Mukul\, Senior Vice President\, Bangladesh Union Parishad Forum- BUPF\n\n\nCommencement of Special Guest\nMS. Aroma Datta\, MP\, Bangladesh National Parliament\n\n\nCommencement of Guest of Honor\nMS. Shaheen Anam\, Executive Director\, Manusher Jonno Foundation \nMr. Faisal-Bin-Seraj\, Country Representative\, The Asia Foundation\n\n\n\n\n\n\nCommencement of Chief Guest\nMr. Md. Tajul Islam MP\, Minister\, Ministry of Local Government\, Rural Development and Cooperatives\n\n\nCommencement of Chair\nDr\, Quazi Khaliquzzaman Ahmed\, Chairperson\, Governance Advocacy Forum and Chairman\, PKSF\n\n\nModerator\nKaniz Fatima\, Assistant Director\, WAVE Foundation\n\n\n2.00pm\nLunch
URL:https://gafbd.org/event/effective-local-government-national-convention-2021/
LOCATION:Krishibid Institution Bangladesh\, Khamarbari\, Farmgate\, Dhaka\, 1207\, Bangladesh
CATEGORIES:Convention
ATTACH;FMTTYPE=image/jpeg:https://gafbd.org/wp-content/uploads/2021/12/Event_postergaf4.jpg
ORGANIZER;CN="Governance Advocacy Foram-GAF":MAILTO:info@gafbd.org
END:VEVENT
END:VCALENDAR