BEGIN:VCALENDAR
VERSION:2.0
PRODID:-//Governance Advocacy Forum - ECPv6.15.11//NONSGML v1.0//EN
CALSCALE:GREGORIAN
METHOD:PUBLISH
X-WR-CALNAME:Governance Advocacy Forum
X-ORIGINAL-URL:https://gafbd.org
X-WR-CALDESC:Events for Governance Advocacy Forum
REFRESH-INTERVAL;VALUE=DURATION:PT1H
X-Robots-Tag:noindex
X-PUBLISHED-TTL:PT1H
BEGIN:VTIMEZONE
TZID:Asia/Dhaka
BEGIN:STANDARD
TZOFFSETFROM:+0600
TZOFFSETTO:+0600
TZNAME:+06
DTSTART:20190101T000000
END:STANDARD
END:VTIMEZONE
BEGIN:VEVENT
DTSTART;TZID=Asia/Dhaka:20220626T100000
DTEND;TZID=Asia/Dhaka:20220626T130000
DTSTAMP:20260423T154501
CREATED:20220623T051810Z
LAST-MODIFIED:20220623T053223Z
UID:25332-1656237600-1656248400@gafbd.org
SUMMARY:মতবিনিময় সভা "জাতীয় বাজেটে স্থানীয় সরকারের জন্য বরাদ্দ ও বাস্তবায়ন"
DESCRIPTION:নিবন্ধন \nসভাপ্রধান\nড. কাজী খলীকুজ্জমান আহমদ\, চেয়ারপার্সন\, গভার্নেন্স এডভোকেসি ফোরাম ও চেয়ারম্যান\, পিকেএসএফ \nপ্রধান অতিথি\nজনাব এম এ মান্নান এমপি\, মাননীয় মন্ত্রী\, পরিকল্পনা মন্ত্রণালয়\, গণপ্রজাতন্ত্রী বাংলাদেশ সরকার \nসম্মানীয় অতিথি\nড. এম এম আকাশ\, অধ্যাপক\, অর্থনীতি বিভাগ\, ঢাকা বিশ্ববিদ্যালয়\nড. মলয় চৌধুরী\, অতিরিক্ত সচিব\, প্রশাসন অনুবিভাগ\, স্থানীয় সরকার বিভাগ\nড. জেবুননেছা\, অধ্যাপক ও প্রাক্তন বিভাগীয় প্রধান\, লোকপ্রশাসন বিভাগ\, জাহাঙ্গীরনগর বিশ্ববিদ্যালয়\nজনাব মোহাম্মদ আসাদুজ্জামান সরকার\, উপ-প্রধান\, রাজস্ব ও মুদ্রানীতি অনুবিভাগ\, পরিকল্পনা কমিশন\nজনাব মো. মোজাম্মেল হক\, প্রোগ্রাম এনালিস্ট\, ডেমোক্রেটিক গভার্নেন্স পোর্টফোলিও\, ইউএনডিপি বাংলাদেশ\nড. আসিফ শাহান\, সহযোগী অধ্যাপক\, উন্নয়ন অধ্যয়ন বিভাগ\, ঢাকা বিশ্ববিদ্যালয়\nজনাব মুন্না রায়হান\, জ্যেষ্ঠ প্রতিবেদক\, দৈনিক ইত্তেফাক \nপ্রবন্ধ উপস্থাপন\nড. কাজী মারুফুল ইসলাম\, অধ্যাপক\, উন্নয়ন অধ্যয়ন বিভাগ\, ঢাকা বিশ^বিদ্যালয় \nস্বাগত বক্তব্য ও সঞ্চালনা\nজনাব মহসিন আলী\, সমন্বয়কারী\, গভার্নেন্স এডভোকেসি ফোরাম ও নির্বাহী পরিচালক\, ওয়েভ ফাউন্ডেশন \nস্থানীয় সরকার নেতৃবৃন্দ ও অংশগ্রহণকারীদের আলোচনা \nআয়োজকদের পক্ষে আলোচনা \nধন্যবাদ জ্ঞাপন\n\n	\n		\n	\n		\n		View Details
URL:https://gafbd.org/event/%e0%a6%ae%e0%a6%a4%e0%a6%ac%e0%a6%bf%e0%a6%a8%e0%a6%bf%e0%a6%ae%e0%a7%9f-%e0%a6%b8%e0%a6%ad%e0%a6%be-%e0%a6%9c%e0%a6%be%e0%a6%a4%e0%a7%80%e0%a7%9f-%e0%a6%ac%e0%a6%be%e0%a6%9c%e0%a7%87%e0%a6%9f/
LOCATION:International Conference Center of CIRDAP\, Dhaka\, Chameli House\, 17 Topkhana Road\, Dhaka\, 1000\, Bangladesh
CATEGORIES:Seminar
ORGANIZER;CN="Governance Advocacy Foram-GAF":MAILTO:info@gafbd.org
END:VEVENT
BEGIN:VEVENT
DTSTART;TZID=Asia/Dhaka:20211219T113000
DTEND;TZID=Asia/Dhaka:20211219T140000
DTSTAMP:20260423T154501
CREATED:20211207T164839Z
LAST-MODIFIED:20211213T123802Z
UID:25133-1639913400-1639922400@gafbd.org
SUMMARY:Plenary Session
DESCRIPTION:Welcome Speech\nMr. Aniruddha Roy\, Facilitator\, Governance Advocacy Forum\n\n\nConsolidated Presentation from Dialogue Sessions\nMd. Ziaul Karim\, Senior coordinator\, MJF\n\n\nPresentation of Research Findings\nDr. Mobasser Monem\, Professor\, Department of Public Administration\n\n\nRecommendations of the National Convention\nMr. Mohsin Ali\, Coordinator\, Governance Advocacy Forum and Executive Director\, WAVE Foundation
URL:https://gafbd.org/event/plenary-session/
LOCATION:Krishibid Institution Bangladesh\, Khamarbari\, Farmgate\, Dhaka\, 1207\, Bangladesh
CATEGORIES:Plenary Session
ORGANIZER;CN="Governance Advocacy Foram-GAF":MAILTO:info@gafbd.org
END:VEVENT
BEGIN:VEVENT
DTSTART;TZID=Asia/Dhaka:20211219T100000
DTEND;TZID=Asia/Dhaka:20211219T110000
DTSTAMP:20260423T154501
CREATED:20211207T164725Z
LAST-MODIFIED:20211213T123540Z
UID:25131-1639908000-1639911600@gafbd.org
SUMMARY:Dialogue Session-4: People’s participation and transparency and accountability of Local Government Institutions
DESCRIPTION:Presentation of keynote: Mr. Md. Ziaul Karim\, Senior Coordinator\, Mannuser Jonno Foundation \nHonorable Speaker: Mr. Md. Jasim Uddin\, Joint Secretary\, Law Branch\, Local Government Department \nModerator: Mr. Ataur Rahman Mitton\, Country Director\, Hunger Free World
URL:https://gafbd.org/event/dialogue-session-4-peoples-participation-and-transparency-accountability-of-lgis/
LOCATION:Krishibid Institution Bangladesh\, Khamarbari\, Farmgate\, Dhaka\, 1207\, Bangladesh
CATEGORIES:Dialogue Session-4
ATTACH;FMTTYPE=image/jpeg:https://gafbd.org/wp-content/uploads/2021/12/p4.jpg
ORGANIZER;CN="Governance Advocacy Foram-GAF":MAILTO:info@gafbd.org
END:VEVENT
BEGIN:VEVENT
DTSTART;TZID=Asia/Dhaka:20211219T100000
DTEND;TZID=Asia/Dhaka:20211219T110000
DTSTAMP:20260423T154501
CREATED:20211207T164501Z
LAST-MODIFIED:20211213T123434Z
UID:25129-1639908000-1639911600@gafbd.org
SUMMARY:Dialogue Session-3: Status of Elected Women Representatives in Local Government Institutions
DESCRIPTION:Presentation of keynote: MS. Farhana Afroz\, Program Manager\, Christian Aid \nHonorable Speaker: Dr. Ferdous Arefina Osman\, Professor\, Department of Public Administration\, University of Dhaka \nModerator: Mr. Amit Dey\, Deputy Manager\, ActionAid Bangladesh
URL:https://gafbd.org/event/dialogue-session-3-status-of-elected-women-representatives-in-local-government-institutions/
LOCATION:Krishibid Institution Bangladesh\, Khamarbari\, Farmgate\, Dhaka\, 1207\, Bangladesh
CATEGORIES:Dialogue Session-3
ORGANIZER;CN="Governance Advocacy Foram-GAF":MAILTO:info@gafbd.org
END:VEVENT
BEGIN:VEVENT
DTSTART;TZID=Asia/Dhaka:20211219T100000
DTEND;TZID=Asia/Dhaka:20211219T110000
DTSTAMP:20260423T154501
CREATED:20211207T164340Z
LAST-MODIFIED:20211213T115447Z
UID:25127-1639908000-1639911600@gafbd.org
SUMMARY:Dialogue Session-2: Resource Mobilization of Local Government Institutions
DESCRIPTION:Presentation of keynote: Dr. Mahfuz Kabir\, Research Director\, BIISS\nHonorable Speaker: MS. Shaila Farzana\, Joint Secretary\, Ministry of Public Administration\nModerator: Mr. Amanur Rahman\, Director\, CARE Bangladesh
URL:https://gafbd.org/event/dialogue-session-2-local-resource-mobilization-of-lgis/
LOCATION:Krishibid Institution Bangladesh\, Khamarbari\, Farmgate\, Dhaka\, 1207\, Bangladesh
CATEGORIES:Dialogue Session-2
ATTACH;FMTTYPE=image/jpeg:https://gafbd.org/wp-content/uploads/2021/12/p2.jpg
ORGANIZER;CN="Governance Advocacy Foram-GAF":MAILTO:info@gafbd.org
END:VEVENT
BEGIN:VEVENT
DTSTART;TZID=Asia/Dhaka:20211219T100000
DTEND;TZID=Asia/Dhaka:20211219T110000
DTSTAMP:20260423T154501
CREATED:20211207T164150Z
LAST-MODIFIED:20211213T114703Z
UID:25125-1639908000-1639911600@gafbd.org
SUMMARY:Dialogue Session-1: Progress as a Developing Country and Policy support for Establishing Effective Local Government to implementation the SDGs
DESCRIPTION:Presentation of keynote: Mr. Mozammel Haque\, Program Analyst\, Democratic Governance Portfolio\, UNDP\nHonorable Speaker: Mr. Mohammad Asaduzzaman Sarkar\, Deputy Chief\, Revenue and Monetary Policy Division\, Planning Commission\nModerator: Mr Abdul Awal\, Executive Director\, NRDS
URL:https://gafbd.org/event/dialogue-session-1policy-support-actions-to-be-taken-to-establish-effective-local-government-system-for-localization-and-implementation-of-sdgs-and-countries-8th-five-year-plan/
LOCATION:Krishibid Institution Bangladesh\, Khamarbari\, Farmgate\, Dhaka\, 1207\, Bangladesh
CATEGORIES:Dialogue Session-1
ATTACH;FMTTYPE=image/jpeg:https://gafbd.org/wp-content/uploads/2021/12/p1.jpg
ORGANIZER;CN="Governance Advocacy Foram-GAF":MAILTO:info@gafbd.org
END:VEVENT
BEGIN:VEVENT
DTSTART;TZID=Asia/Dhaka:20211219T090000
DTEND;TZID=Asia/Dhaka:20211219T140000
DTSTAMP:20260423T154501
CREATED:20211202T042640Z
LAST-MODIFIED:20211213T114355Z
UID:25049-1639904400-1639922400@gafbd.org
SUMMARY:Effective Local Government National Convention\, 2021
DESCRIPTION:Program Schedule: \n\n\n\n9.30am to 10.00am\n  \nRegistration\n\n\n10.00am to 11.00am\nParallel Dialogue Session\n\n\nDialogue Session-1\nProgress as a Developing Country and Policy support for Establishing Effective Local Government to implementation the SDGs  \n\n\nPresentation of keynote: Mr. Mozammel Haque\nProgram Analyst\, Democratic Governance Portfolio\, UNDP  \nHonorable Speaker: Mr. Mohammad Asaduzzaman Sarkar\nDeputy Chief\, Revenue and Monetary Policy Division\, Planning Commission \nModerator: Mr Abdul Awal\, Executive Director\, NRDS\n\n\n  \nDialogue Session-2\nResource Mobilization of Local Government Institutions\n\n\nPresentation of keynote: Dr. Mahfuz Kabir\, Research Director\, BIISS \nHonorable Speaker: MS. Shaila Farzana\, Joint Secretary\, Ministry of Public Administration \nModerator: Mr. Amanur Rahman\, Director\, CARE Bangladesh\n\n\n  \nDialogue Session-3\nStatus of Elected Women Representatives in Local Government Institutions \n\n\nPresentation of keynote: MS. Farhana Afroz\, Program Manager\, Christian Aid \nHonorable Speaker: Dr. Ferdous Arefina Osman\nProfessor\, Department of Public Administration\, University of Dhaka \nModerator: Mr. Amit Dey\, Deputy Manager\, ActionAid Bangladesh\n\n\n  \nDialogue Session-4\nPeople’s participation and transparency and accountability of Local Government Institutions\n\n\nPresentation of keynote: Mr. Md. Ziaul Karim\, Senior Coordinator\, Mannuser Jonno Foundation \nHonorable Speaker: Mr. Md. Jasim Uddin\, Joint Secretary\, Law Branch\, Local Government Department \nModerator: Mr. Ataur Rahman Mitton\, Country Director\, Hunger Free World\n\n\n11.00am to 11.30am\nHealth Break\n\n\n11.30am to 2.00pm\nPlenary Session\n\n\nWelcome Speech\nMr. Aniruddha Roy\, Facilitator\, Governance Advocacy Forum\n\n\nConsolidated Presentation from Dialogue Sessions\nMd. Ziaul Karim\, Senior coordinator\, MJF\n\n\nPresentation of Research Findings\nDr. Mobasser Monem\, Professor\, Department of Public Administration\n\n\nRecommendations of the National Convention\nMr. Mohsin Ali\nCoordinator\, Governance Advocacy Forum and Executive Director\, WAVE Foundation\n\n\nDiscussion by the Local Government Representatives and Participants\nMr. Akhtaruzzaman\, Chairman\, Gazipur Zila Parishad \nMr. Harun-Or-Rashid Hawlader\, President\, Bangladesh Upazila Parishad Association \nMr. Dewan Kamal Ahmed\, President\, Municipal Association of Bangladesh-MAB \nMr. Sazzad Hossain Mukul\, Senior Vice President\, Bangladesh Union Parishad Forum- BUPF\n\n\nCommencement of Special Guest\nMS. Aroma Datta\, MP\, Bangladesh National Parliament\n\n\nCommencement of Guest of Honor\nMS. Shaheen Anam\, Executive Director\, Manusher Jonno Foundation \nMr. Faisal-Bin-Seraj\, Country Representative\, The Asia Foundation\n\n\n\n\n\n\nCommencement of Chief Guest\nMr. Md. Tajul Islam MP\, Minister\, Ministry of Local Government\, Rural Development and Cooperatives\n\n\nCommencement of Chair\nDr\, Quazi Khaliquzzaman Ahmed\, Chairperson\, Governance Advocacy Forum and Chairman\, PKSF\n\n\nModerator\nKaniz Fatima\, Assistant Director\, WAVE Foundation\n\n\n2.00pm\nLunch
URL:https://gafbd.org/event/effective-local-government-national-convention-2021/
LOCATION:Krishibid Institution Bangladesh\, Khamarbari\, Farmgate\, Dhaka\, 1207\, Bangladesh
CATEGORIES:Convention
ATTACH;FMTTYPE=image/jpeg:https://gafbd.org/wp-content/uploads/2021/12/Event_postergaf4.jpg
ORGANIZER;CN="Governance Advocacy Foram-GAF":MAILTO:info@gafbd.org
END:VEVENT
BEGIN:VEVENT
DTSTART;TZID=Asia/Dhaka:20200623T110000
DTEND;TZID=Asia/Dhaka:20200623T130000
DTSTAMP:20260423T154501
CREATED:20200622T093435Z
LAST-MODIFIED:20200622T113002Z
UID:24997-1592910000-1592917200@gafbd.org
SUMMARY:Online discussion titled ‘Role of Local Government in Corona Period and the Budget 2020-21'
DESCRIPTION:Online discussion titled ‘Role of Local Government in Corona Period and the Budget 2020-21‘\, on Tuesday\, 23 June 2020\, at 11:00 AM. GAF Chairperson and PKSF Chairman Dr. Qazi Kholiquzzaman Ahmad will preside over the session. Dr. M M Akash\, Professor\, Dept. of Economics\, DU; Dr. Fersous Arfina Osman\, Professor\, Dept. of Public Administration\, DU\, and Dr. Kazi Maruful Islam\, Professor\, Dept. of Development Studies\, DU will be the Guest Discussants there.
URL:https://gafbd.org/event/online-discussion-titled-role-of-local-government-in-corona-period-and-the-budget-2020-21/
LOCATION:WAVE Foundation\, 3/11\, Block-D\, Lalmatia\, Dhaka\, Dhaka\, 1207\, Bangladesh
CATEGORIES:Online discussion
ATTACH;FMTTYPE=image/png:https://gafbd.org/wp-content/uploads/2020/06/Online-Discussion_GAF.png
ORGANIZER;CN="Governance Advocacy Foram-GAF":MAILTO:info@gafbd.org
END:VEVENT
END:VCALENDAR